BEGIN:VCALENDAR
VERSION:2.0
PRODID:-//Kentucky Center for School Safety - ECPv5.1.2.1//NONSGML v1.0//EN
CALSCALE:GREGORIAN
METHOD:PUBLISH
X-WR-CALNAME:Kentucky Center for School Safety
X-ORIGINAL-URL:https://kycss.org
X-WR-CALDESC:Events for Kentucky Center for School Safety
BEGIN:VTIMEZONE
TZID:UTC
BEGIN:STANDARD
TZOFFSETFROM:+0000
TZOFFSETTO:+0000
TZNAME:UTC
DTSTART:20210101T000000
END:STANDARD
END:VTIMEZONE
BEGIN:VEVENT
DTSTART;TZID=UTC:20211027T093000
DTEND;TZID=UTC:20211027T113000
DTSTAMP:20260420T001654
CREATED:20210616T143241Z
LAST-MODIFIED:20210616T143241Z
UID:12597-1635327000-1635334200@kycss.org
SUMMARY:Oct. 27\, 2021 – WKEC Board Of Directors Meeting
DESCRIPTION: 
URL:https://kycss.org/event/oct-27-2021-wkec-board-of-directors-meeting/
LOCATION:WKEC Conference Center\, Eddyville\, KY
END:VEVENT
END:VCALENDAR