BEGIN:VCALENDAR
VERSION:2.0
PRODID:-//Kentucky Center for School Safety - ECPv5.1.2.1//NONSGML v1.0//EN
CALSCALE:GREGORIAN
METHOD:PUBLISH
X-WR-CALNAME:Kentucky Center for School Safety
X-ORIGINAL-URL:https://kycss.org
X-WR-CALDESC:Events for Kentucky Center for School Safety
BEGIN:VTIMEZONE
TZID:UTC
BEGIN:STANDARD
TZOFFSETFROM:+0000
TZOFFSETTO:+0000
TZNAME:UTC
DTSTART:20210101T000000
END:STANDARD
END:VTIMEZONE
BEGIN:VEVENT
DTSTART;TZID=UTC:20211027T170000
DTEND;TZID=UTC:20211027T190000
DTSTAMP:20260420T001241
CREATED:20210819T193533Z
LAST-MODIFIED:20210819T193533Z
UID:12877-1635354000-1635361200@kycss.org
SUMMARY:Oct. 27\, 2021 – KCSS Presentation
DESCRIPTION: 
URL:https://kycss.org/event/oct-27-2021-kcss-presentation/
END:VEVENT
END:VCALENDAR