BEGIN:VCALENDAR
VERSION:2.0
PRODID:-//Kentucky Center for School Safety - ECPv5.1.2.1//NONSGML v1.0//EN
CALSCALE:GREGORIAN
METHOD:PUBLISH
X-WR-CALNAME:Kentucky Center for School Safety
X-ORIGINAL-URL:https://kycss.org
X-WR-CALDESC:Events for Kentucky Center for School Safety
BEGIN:VTIMEZONE
TZID:UTC
BEGIN:STANDARD
TZOFFSETFROM:+0000
TZOFFSETTO:+0000
TZNAME:UTC
DTSTART:20210101T000000
END:STANDARD
END:VTIMEZONE
BEGIN:VEVENT
DTSTART;TZID=UTC:20211026T100000
DTEND;TZID=UTC:20211026T120000
DTSTAMP:20260420T001525
CREATED:20210928T164822Z
LAST-MODIFIED:20210928T164822Z
UID:13360-1635242400-1635249600@kycss.org
SUMMARY:Oct. 26\, 2021 – KCSS Board Of Directors Meeting
DESCRIPTION: 
URL:https://kycss.org/event/oct-26-2021-kcss-board-of-directors-meeting/
END:VEVENT
END:VCALENDAR