BEGIN:VCALENDAR
VERSION:2.0
PRODID:-//Kentucky Center for School Safety - ECPv5.1.2.1//NONSGML v1.0//EN
CALSCALE:GREGORIAN
METHOD:PUBLISH
X-WR-CALNAME:Kentucky Center for School Safety
X-ORIGINAL-URL:https://kycss.org
X-WR-CALDESC:Events for Kentucky Center for School Safety
BEGIN:VTIMEZONE
TZID:UTC
BEGIN:STANDARD
TZOFFSETFROM:+0000
TZOFFSETTO:+0000
TZNAME:UTC
DTSTART:20210101T000000
END:STANDARD
END:VTIMEZONE
BEGIN:VEVENT
DTSTART;TZID=UTC:20211011T080000
DTEND;TZID=UTC:20211011T100000
DTSTAMP:20260420T014809
CREATED:20210819T193334Z
LAST-MODIFIED:20210819T193334Z
UID:12875-1633939200-1633946400@kycss.org
SUMMARY:Oct. 11\, 2021 – KCSS SEC 420 Presentation
DESCRIPTION: 
URL:https://kycss.org/event/oct-11-2021-kcss-sec-420-presentation/
END:VEVENT
END:VCALENDAR