BEGIN:VCALENDAR
VERSION:2.0
PRODID:-//Kentucky Center for School Safety - ECPv5.1.2.1//NONSGML v1.0//EN
CALSCALE:GREGORIAN
METHOD:PUBLISH
X-WR-CALNAME:Kentucky Center for School Safety
X-ORIGINAL-URL:https://kycss.org
X-WR-CALDESC:Events for Kentucky Center for School Safety
BEGIN:VTIMEZONE
TZID:UTC
BEGIN:STANDARD
TZOFFSETFROM:+0000
TZOFFSETTO:+0000
TZNAME:UTC
DTSTART:20220101T000000
END:STANDARD
END:VTIMEZONE
BEGIN:VEVENT
DTSTART;TZID=UTC:20221107T120000
DTEND;TZID=UTC:20221107T150000
DTSTAMP:20260419T180234
CREATED:20221018T211620Z
LAST-MODIFIED:20221018T211620Z
UID:15306-1667822400-1667833200@kycss.org
SUMMARY:Nov. 7\, 2022 – Skills For Psychological Recovery (SPR) Training: Part Two
DESCRIPTION:Shared by Patti M. Clark\, Kentucky Cabinet for Health and Family Services via KYPRIN ListServ \nPlease see information below on an upcoming training – Skills for Psychological Recovery (SPR) – focused on support disaster survivors in managing distress and coping with post-disaster stress and adversity offered by the University of Kentucky Center on trauma and Children \nThe training is free and takes place across three days\, Nov. 1\, 7 and 15th. \nCEUS Available: Social Work\, Psychology\, EILA. FRYSC Pending \nCertificate of attendance will be provided. \nFor more information\, please reach out to: \nEmily K Smith\, MPH\nWell@Work Coordinator\nCenter on Trauma and Children\nUniversity of Kentucky\n859-218-6947\nFax 859-543-1121\nwww.uky.edu/ctac/wellatwork \nThe University of Kentucky Center on Trauma and Children is hosting a free training in Skills for Psychological Recovery (SPR) – November 1\, 7 and 15th. See information and registration below. \nSkills for Psychological Recovery (SPR) is an evidence-informed modular intervention that aims to help survivors gain skills to manage distress and cope with post-disaster stress and adversity. It is based on an understanding that disaster survivors will experience a broad range of reactions (physical\, psychological\, behavioral\, spiritual) over differing periods of time. SPR is not formal mental health treatment\, but rather a secondary prevention model that utilizes skills-building components that have been found helpful in a variety of post-trauma situations. Although some individuals will need referral for treatment after an event\, research suggests that a skills-building approach is more effective than supportive counseling for most. \nWho should register: \nFaith leaders\, youth group leaders\, school personnel\, family resource and youth services workers (FRYSCs)\, social service workers\, librarians\, health care workers\, emergency response personnel\, or anyone seeking skills in order to offer support to their community after a disaster. \nWhat participants will experience: \nSPR aims to help survivors gain skills to manage distress and cope with post-disaster stress and adversity. This course utilizes skills-building components from mental health treatment that have been found helpful in a variety of post-trauma situations. Research suggests that a skills-building approach is more effective than supportive counseling. SPR is appropriate for developmental levels across the lifespan and is culturally informed. \nSPR can be delivered in a variety of settings (e.g.\, schools\, clinics\, hospitals\, assisted living facilities\, houses of worship\, community centers\, libraries\, and homes). Each SPR skill can be covered in one contact or meeting with a survivor and then reinforced through the use of handouts and practice. The six SPR skills include: \n\nGathering Information and Prioritizing Assistance helps survivors to identify their primary concerns and to pick the SPR strategy to focus on.\nBuilding Problem-Solving Skills teaches survivors the tools to break problems down into more manageable chunks\, identify a range of ways to respond\, and create an action plan to move forward.\nPromoting Positive Activities guides survivors to increase meaningful and positive activities in their schedule\, with the goal of building resilience and bringing more fulfillment and enjoyment into their life.\nManaging Reactions helps survivors to better manage distressing physical and emotional reactions by using such tools as breathing retraining\, writing exercises\, and identifying and planning for triggers and reminders.\nPromoting Helpful Thinking assists survivors learn how their thoughts influence their emotions\, become more aware of what they are saying to themselves\, and replace unhelpful with more helpful thoughts.\nRebuilding Healthy Social Connections encourages survivors to access and enhance social and community supports while keeping in mind the current post-disaster recovery circumstances.\n\nCEUS Available: Social Work\, Psychology\, EILA. FRYSC Pending \nFollow this link to register: https://ctac.uky.edu/register-skills-psychological-recovery \nClick to view digital flyer \n 
URL:https://kycss.org/event/nov-7-2022-skills-for-psychological-recovery-spr-training-part-two/
CATEGORIES:Training
END:VEVENT
END:VCALENDAR