BEGIN:VCALENDAR
VERSION:2.0
PRODID:-//Kentucky Center for School Safety - ECPv5.1.2.1//NONSGML v1.0//EN
CALSCALE:GREGORIAN
METHOD:PUBLISH
X-WR-CALNAME:Kentucky Center for School Safety
X-ORIGINAL-URL:https://kycss.org
X-WR-CALDESC:Events for Kentucky Center for School Safety
BEGIN:VTIMEZONE
TZID:UTC
BEGIN:STANDARD
TZOFFSETFROM:+0000
TZOFFSETTO:+0000
TZNAME:UTC
DTSTART:20220101T000000
END:STANDARD
END:VTIMEZONE
BEGIN:VEVENT
DTSTART;TZID=UTC:20220525T093000
DTEND;TZID=UTC:20220525T113000
DTSTAMP:20260420T001714
CREATED:20220119T205525Z
LAST-MODIFIED:20220119T205525Z
UID:14461-1653471000-1653478200@kycss.org
SUMMARY:May 25\, 2022 – WKEC Board of Directors Meeting
DESCRIPTION: 
URL:https://kycss.org/event/may-25-2022-wkec-board-of-directors-meeting/
END:VEVENT
END:VCALENDAR