BEGIN:VCALENDAR
VERSION:2.0
PRODID:-//Kentucky Center for School Safety - ECPv5.1.2.1//NONSGML v1.0//EN
CALSCALE:GREGORIAN
METHOD:PUBLISH
X-WR-CALNAME:Kentucky Center for School Safety
X-ORIGINAL-URL:https://kycss.org
X-WR-CALDESC:Events for Kentucky Center for School Safety
BEGIN:VTIMEZONE
TZID:UTC
BEGIN:STANDARD
TZOFFSETFROM:+0000
TZOFFSETTO:+0000
TZNAME:UTC
DTSTART:20210101T000000
END:STANDARD
END:VTIMEZONE
BEGIN:VEVENT
DTSTART;TZID=UTC:20210608T183000
DTEND;TZID=UTC:20210608T200000
DTSTAMP:20260420T080647
CREATED:20210115T203218Z
LAST-MODIFIED:20210115T203218Z
UID:10769-1623177000-1623182400@kycss.org
SUMMARY:Jun. 8\, 2021 - KYCCBD 2021 Virtual Behavior Institute
DESCRIPTION:KYCCBD 2021 Virtual Behavior Institute\nEducation Tuesdays\n2nd and 4th Tuesday evenings 6:30-8:00 PM EST\n(February 9th – June 22nd) \nThe Kentucky Council for Children with Behavior Disorders has heard the need and is reaching out to provide Kentucky education professionals with FREE monthly sessions to promote resilience\, increase equity\, support a growth mindset\, and to build academic and behavioral skills for student success. FREE to Kentucky Education Professionals* (*Teachers\, School Counselors\, Paraprofessionals\, Administrators\, Social Workers\, School) \nFor session information and updates\, visit us at www.kyccbd.org! \nSponsors KDBHDID and KCSS \nDownload PDF for more information \n 
URL:https://kycss.org/event/jun-8-2021-kyccbd-2021-virtual-behavior-institute/
CATEGORIES:Training
END:VEVENT
END:VCALENDAR