BEGIN:VCALENDAR
VERSION:2.0
PRODID:-//Kentucky Center for School Safety - ECPv5.1.2.1//NONSGML v1.0//EN
CALSCALE:GREGORIAN
METHOD:PUBLISH
X-WR-CALNAME:Kentucky Center for School Safety
X-ORIGINAL-URL:https://kycss.org
X-WR-CALDESC:Events for Kentucky Center for School Safety
BEGIN:VTIMEZONE
TZID:UTC
BEGIN:STANDARD
TZOFFSETFROM:+0000
TZOFFSETTO:+0000
TZNAME:UTC
DTSTART:20220101T000000
END:STANDARD
END:VTIMEZONE
BEGIN:VEVENT
DTSTART;TZID=UTC:20220622T080000
DTEND;TZID=UTC:20220623T170000
DTSTAMP:20260419T211834
CREATED:20220210T221418Z
LAST-MODIFIED:20220307T222930Z
UID:14538-1655884800-1656003600@kycss.org
SUMMARY:Jun. 22-23\, 2022 – Safe Schools and Communities Conference
DESCRIPTION:Registration is Open\nJune 22-23\, 2022 Safe Schools and Communities Conference \nEastern Kentucky University\, Perkins Building\, Richmond\nHosted by the Kentucky Center for School Safety \nThis two-day event is FREE OF CHARGE and is open to law enforcement officers\, school administrators\, and school personnel. Registration will be on a first come\, first serve basis so register soon. Attendance to this conference does include membership to the Kentucky Association of School Resource Officers (KYASRO) and the Kentucky DARE Association for law enforcement participants. \nRegister at: https://na.eventscloud.com/667716 \n\nKeynote speakers: Frank De Angelis\, former principal at Columbine High School and Jermaine Galloway (Tall Cop)\, expert in the detection and prevention of substance abuse.\nJoin us for an informal social event held on Wednesday\, June 22nd from 5:00 – 7:00 at the Mule Barn\, Arlington Country Club in Richmond. Come gather for networking\, barbeque\, and music. All conference participants are welcome! FREE OF CHARGE.\n# Law enforcement award ceremony during lunch on Thursday\, June 23rd\nBreakout sessions on the following topics:\n\nMental Health Issues – Several sessions will be offered on working with autistic students and general mental health updates with students. \nSchool Law Update – A school law update will be provided for school-based law enforcement and school personnel. \nInterviewing Students – The presenter will discuss special circumstances on how to properly interview students. \nSocial Media Trends – Multiple sessions will review recent trends in social media and how social media is related to human trafficking Building Effective Relationships – This panel discussion will discuss how SROs and Administrators can build effective relationships in schools. \nThreat Assessment Updates – Presenters will discuss the development and function of a schoolbased threat assessment team. \nWhat keeps You Up at Night Regarding the Safety in Your School? – An open discussion with Jon Akers and Ben Wilcox will cover various topics with school administrators and law enforcement officers. \nCreating Safer Spaces for LGBTQ Youth – This training will overview how to create a safe and supportive educational spaces for LGBTQ youth. \nFor more information\, contact Lee Ann Morrison at leeann.morrison@eku.edu. See you then! \n 
URL:https://kycss.org/event/jun-22-23-2022-law-enforcement-in-schools-conference/
LOCATION:Eastern Kentucky University\, Perkins Building\, Richmond\, Eastern Kentucky University\, Perkins Building\, Richmond\, United States
CATEGORIES:Training
END:VEVENT
END:VCALENDAR