BEGIN:VCALENDAR
VERSION:2.0
PRODID:-//Kentucky Center for School Safety - ECPv5.1.2.1//NONSGML v1.0//EN
CALSCALE:GREGORIAN
METHOD:PUBLISH
X-WR-CALNAME:Kentucky Center for School Safety
X-ORIGINAL-URL:https://kycss.org
X-WR-CALDESC:Events for Kentucky Center for School Safety
BEGIN:VTIMEZONE
TZID:UTC
BEGIN:STANDARD
TZOFFSETFROM:+0000
TZOFFSETTO:+0000
TZNAME:UTC
DTSTART:20220101T000000
END:STANDARD
END:VTIMEZONE
BEGIN:VEVENT
DTSTART;TZID=UTC:20220622T140000
DTEND;TZID=UTC:20220622T160000
DTSTAMP:20260419T192930
CREATED:20211026T191107Z
LAST-MODIFIED:20211026T191107Z
UID:14061-1655906400-1655913600@kycss.org
SUMMARY:Jun. 22\, 2022 – KCSS Board Of Directors Meeting
DESCRIPTION: 
URL:https://kycss.org/event/jun-22-2022-kcss-board-of-directors-meeting/
END:VEVENT
END:VCALENDAR