BEGIN:VCALENDAR
VERSION:2.0
PRODID:-//Kentucky Center for School Safety - ECPv5.1.2.1//NONSGML v1.0//EN
CALSCALE:GREGORIAN
METHOD:PUBLISH
X-WR-CALNAME:Kentucky Center for School Safety
X-ORIGINAL-URL:https://kycss.org
X-WR-CALDESC:Events for Kentucky Center for School Safety
BEGIN:VTIMEZONE
TZID:UTC
BEGIN:STANDARD
TZOFFSETFROM:+0000
TZOFFSETTO:+0000
TZNAME:UTC
DTSTART:20250101T000000
END:STANDARD
END:VTIMEZONE
BEGIN:VEVENT
DTSTART;TZID=UTC:20250610T080000
DTEND;TZID=UTC:20250611T170000
DTSTAMP:20260419T132045
CREATED:20241204T210616Z
LAST-MODIFIED:20241204T210616Z
UID:19071-1749542400-1749661200@kycss.org
SUMMARY:Jun. 10-11\, 2025 – Safe Schools and Communities Conference
DESCRIPTION:Save the Date \nJune 10-11\, 2025 – Safe Schools and Communities Conference \n 
URL:https://kycss.org/event/jun-10-11-2025-safe-schools-and-communities-conference/
LOCATION:Great Crossing High School\, Georgetown\, KY
CATEGORIES:Training
END:VEVENT
END:VCALENDAR