BEGIN:VCALENDAR
VERSION:2.0
PRODID:-//Kentucky Center for School Safety - ECPv5.1.2.1//NONSGML v1.0//EN
CALSCALE:GREGORIAN
METHOD:PUBLISH
X-WR-CALNAME:Kentucky Center for School Safety
X-ORIGINAL-URL:https://kycss.org
X-WR-CALDESC:Events for Kentucky Center for School Safety
BEGIN:VTIMEZONE
TZID:UTC
BEGIN:STANDARD
TZOFFSETFROM:+0000
TZOFFSETTO:+0000
TZNAME:UTC
DTSTART:20220101T000000
END:STANDARD
END:VTIMEZONE
BEGIN:VEVENT
DTSTART;TZID=UTC:20220310T100000
DTEND;TZID=UTC:20220310T100000
DTSTAMP:20260419T224116
CREATED:20211026T190828Z
LAST-MODIFIED:20220301T213604Z
UID:14057-1646906400-1646906400@kycss.org
SUMMARY:Mar. 10\, 2022 – KCSS Board Of Directors Meeting
DESCRIPTION: 
URL:https://kycss.org/event/feb-17-2022-kcss-board-of-directors-meeting/
END:VEVENT
END:VCALENDAR