BEGIN:VCALENDAR
VERSION:2.0
PRODID:-//Kentucky Center for School Safety - ECPv5.1.2.1//NONSGML v1.0//EN
CALSCALE:GREGORIAN
METHOD:PUBLISH
X-WR-CALNAME:Kentucky Center for School Safety
X-ORIGINAL-URL:https://kycss.org
X-WR-CALDESC:Events for Kentucky Center for School Safety
BEGIN:VTIMEZONE
TZID:UTC
BEGIN:STANDARD
TZOFFSETFROM:+0000
TZOFFSETTO:+0000
TZNAME:UTC
DTSTART:20210101T000000
END:STANDARD
END:VTIMEZONE
BEGIN:VEVENT
DTSTART;TZID=UTC:20210803T140000
DTEND;TZID=UTC:20210803T150000
DTSTAMP:20260420T015324
CREATED:20210723T130128Z
LAST-MODIFIED:20210723T130128Z
UID:12649-1627999200-1628002800@kycss.org
SUMMARY:Aug. 3\, 2021 – Student Suicide Prevention Curriculum Overview Sessions for 2021-2022 School Year
DESCRIPTION:Kentucky has developed a new 45-minute suicide prevention curriculum for grades 5-12 for the 2021-2022 school year. \nThis curriculum supports students in addressing back-to-school stress\, anxiety and related issues. \nThe curriculum meets the state legislative mandate to deliver suicide prevention information to all middle and high school students by Sept. 15th of each school year. Students will learn how to: \n• Identify expectations about the new school year\n• Recognize that returning to school requires planning\n• Acknowledge that adult help is needed in some school preparation\n• Identify at least one adult that students can go to if they are concerned about themselves or a friend\n• Name some personal coping skills \nIn order to prepare staff to teach the curriculum and decrease anxiety in doing so\, live overview sessions will be offered via Zoom in early August. \nThis training will also meet the mandated suicide prevention staff training for middle and high school staff. \nThe overview sessions will be conducted by Maureen Underwood\, LCSW\, and author of the curriculum. Ms. Underwood is also the co-developer of the nationally recognized Lifelines curriculum used in some schools in Kentucky. \nBoth overview sessions will be recorded. Register for either of the trainings at this link. Indicate your preferred session during the registration process. \nFor grades 5-8: Tuesday\, August 3rd 2 p.m.-3 p.m. \nFor grades 9-12: Wednesday\, August 4th 10 a.m.-11 a.m. \n 
URL:https://kycss.org/event/aug-3-2021-student-suicide-prevention-curriculum-overview-sessions-for-2021-2022-school-year/
CATEGORIES:Training
END:VEVENT
END:VCALENDAR