BEGIN:VCALENDAR
VERSION:2.0
PRODID:-//Kentucky Center for School Safety - ECPv5.1.2.1//NONSGML v1.0//EN
CALSCALE:GREGORIAN
METHOD:PUBLISH
X-WR-CALNAME:Kentucky Center for School Safety
X-ORIGINAL-URL:https://kycss.org
X-WR-CALDESC:Events for Kentucky Center for School Safety
BEGIN:VTIMEZONE
TZID:UTC
BEGIN:STANDARD
TZOFFSETFROM:+0000
TZOFFSETTO:+0000
TZNAME:UTC
DTSTART:20260101T000000
END:STANDARD
END:VTIMEZONE
BEGIN:VEVENT
DTSTART;TZID=UTC:20260428T103000
DTEND;TZID=UTC:20260428T123000
DTSTAMP:20260419T144609
CREATED:20260113T164253Z
LAST-MODIFIED:20260114T143631Z
UID:21125-1777372200-1777379400@kycss.org
SUMMARY:Apr. 28\, 2026 – KCSS Board of Directors Meeting
DESCRIPTION: 
URL:https://kycss.org/event/apr-28-2026-kcss-board-of-directors-meeting/
END:VEVENT
END:VCALENDAR