BEGIN:VCALENDAR
VERSION:2.0
PRODID:-//Kentucky Center for School Safety - ECPv5.1.2.1//NONSGML v1.0//EN
CALSCALE:GREGORIAN
METHOD:PUBLISH
X-WR-CALNAME:Kentucky Center for School Safety
X-ORIGINAL-URL:https://kycss.org
X-WR-CALDESC:Events for Kentucky Center for School Safety
BEGIN:VTIMEZONE
TZID:UTC
BEGIN:STANDARD
TZOFFSETFROM:+0000
TZOFFSETTO:+0000
TZNAME:UTC
DTSTART:20260101T000000
END:STANDARD
END:VTIMEZONE
BEGIN:VEVENT
DTSTART;TZID=UTC:20260424T090000
DTEND;TZID=UTC:20260424T100000
DTSTAMP:20260423T232857
CREATED:20260423T183848Z
LAST-MODIFIED:20260423T185255Z
UID:21606-1777021200-1777024800@kycss.org
SUMMARY:Apr. 24\, 2026 – Parenting Gen Alpha for Parents & Caregivers
DESCRIPTION:Shared by Christina Weeter\, KDE via KYSAFE ListServ \nPlease see the training opportunities from the Kentucky Department for Behavioral Health\, Developmental and Intellectual Disabilities (BHDID) to share with your networks\, including parents. Please direct any questions to lena.morehead@ky.gov. \nThis is a reminder of Dr. Steven Kniffley free one-hour training session for April and May. Click on the date or time to register for the trainings. Please share the trainings with your staff\, colleagues\, and friends. \nThis FREE presentation will explore the challenges and opportunities facing Generation Alpha\, as well as strategies to empower and support this generation. \nThank you for your attention and participation. \nLena M. Morehead\nKYSIX Regional Implementation Specialist\nChildren’s Mental Health and Recovery Services Branch\nDepartment for Behavioral Health\, Developmental & Intellectual Disabilities\nKentucky Cabinet for Health and Family Services\n275 E. Main Street\, 4W-G\nFrankfort\, KY 40621\nPhone: 502-564-4502\nlena.morehead@ky.gov \n 
URL:https://kycss.org/event/apr-24-2026-parenting-gen-alpha-for-parents-caregivers/
CATEGORIES:Training
END:VEVENT
END:VCALENDAR